BEGIN:VCALENDAR
VERSION:2.0
PRODID:-//HGS Art - ECPv6.15.20//NONSGML v1.0//EN
CALSCALE:GREGORIAN
METHOD:PUBLISH
X-ORIGINAL-URL:https://hgsart.co.uk
X-WR-CALDESC:Events for HGS Art
REFRESH-INTERVAL;VALUE=DURATION:PT1H
X-Robots-Tag:noindex
X-PUBLISHED-TTL:PT1H
BEGIN:VTIMEZONE
TZID:UTC
BEGIN:STANDARD
TZOFFSETFROM:+0000
TZOFFSETTO:+0000
TZNAME:UTC
DTSTART:20240101T000000
END:STANDARD
END:VTIMEZONE
BEGIN:VEVENT
DTSTART;TZID=UTC:20260206T080000
DTEND;TZID=UTC:20260301T170000
DTSTAMP:20260421T104017
CREATED:20260126T151250Z
LAST-MODIFIED:20260206T113224Z
UID:3650-1770364800-1772384400@hgsart.co.uk
SUMMARY:"Interwoven Narratives" at Fellowship House
DESCRIPTION:HGS ART are delighted to announce a new exhibition “Interwoven Narratives” at Fellowship House 136A Willifield Way\, London NW11 6YD featuring our artists Vera Moore and Galina Hristova . \nPlease come to our Private View on Tuesday 10th February at 7.00pm to meet our talented artists and enjoy drinks and nibbles. \nFind out more about these talented artists: \nVera Moore \n \nVera Moore is a professional Artist with an international pedigree. Firstly trained at the world famous Hermitage in St Petersburg ( under the direct tutelage of Laureate Painter Churylov)\, she obtained a second Diploma from Kings College & Hampstead School of Art in London\, the Alma Mater of such luminaries as Henry Moore and Lucien Freud. \nIn the past 4 years\, she established Kultura Art studio as the foremost private “Ladies Art Club” in London. In parallel\, she also built a highly successful Children’s Art Club based on direct engagement with drawing\, oil on canvas and multi media techniques. Traditional and spiritual values drive her approach both to her own creations and in teaching methodology. \nFrom the basic fine art skills through to the exotic appliance of oriental techniques\, she brings experience\, dedication and guidance within a hard working and holistic framework. \n” Balance is everything.. talent and hard work by themselves will achieve less than harnessing them together with detailed guidance\, planning and thought “. \n\n\nGalina Hristova \n\n \nGalina is a graduate of the MFA Fine Art Course at Wimbledon College of Arts\, UAL\, London\, UK. It sealed a professional training that started at the widely acclaimed High school of Fine Arts ‘Tzanko Lavrenov’ in Bulgaria\, and was followed by BA and MA Set and Costume design at the National Art Academy.\nShe works multidisciplinary with main focus on Painting and Performance art\, exploring psychological subjec matter\, centered around human nature dichotomies\, dualism\, myth\, and folklore.\nShe is a founder and art tutor at Glena Art Studio – a creative space for art classes\, workshops\, and events. Her practice expands in curation with the realisation of themed exhibitions and art events\, and she has organised and participated in various workshops\, presentations\, and artist talks.\nGalina has an extensive history of collective shows and 6 solo exhibitions. Her works are in private collections in Norway\, Germany\, Poland\, Bulgaria\, and the UK.
URL:https://hgsart.co.uk/event/interwoven-narratives-at-fellowship-house/
LOCATION:Fellowship House\, 136A Willifield Way\, London\, NW11 6YD\, United Kingdom
CATEGORIES:Exhibition
ATTACH;FMTTYPE=image/jpeg:https://hgsart.co.uk/wp-content/uploads/2026/01/website-banner-2.jpg
END:VEVENT
BEGIN:VEVENT
DTSTART;TZID=UTC:20260201T080000
DTEND;TZID=UTC:20260401T170000
DTSTAMP:20260421T104017
CREATED:20260126T144344Z
LAST-MODIFIED:20260126T144344Z
UID:3636-1769932800-1775062800@hgsart.co.uk
SUMMARY:Exhibition in Residence: Hanover Estate Agents
DESCRIPTION:We are delighted to have a new display in Hanover Estate Agents as in Temple Fortune from February featuring HGS ART artists Linda Freedman and Francesco Conti. Please do drop in and have a look!
URL:https://hgsart.co.uk/event/exhibition-in-residence-hanover-estate-agents/
LOCATION:hanover residential\, 15 Temple Fortune Parade\, Finchley Road\, London\, NW11 0QS
CATEGORIES:Exhibition
ATTACH;FMTTYPE=image/jpeg:https://hgsart.co.uk/wp-content/uploads/2026/01/Website-Banner-26-02-Conti-Freedman.jpg
END:VEVENT
BEGIN:VEVENT
DTSTART;TZID=UTC:20251201T080000
DTEND;TZID=UTC:20260131T170000
DTSTAMP:20260421T104017
CREATED:20250723T104154Z
LAST-MODIFIED:20251218T115402Z
UID:3438-1764576000-1769878800@hgsart.co.uk
SUMMARY:"Contrasts" two artist Show
DESCRIPTION:We are delighted to holding a 2 Person Show\, “Contrasts”  featuring HGS ART members Flora Fekete and Ece Turaman in Fellowship House in December and January \nDates:1st December to January 31st \nVenue: Fellowship House\, 136a Willifield Way NW11 6YD \nPRIVATE VIEW 22nd January at 7.00pm – Please join us and meet our artists! \nFlora Fekete \n\n\n\n\n\n\n\nFlora Fekete is a Hungarian artist who studied Fine Art and graduated in Hungary in 2012 as a Visual Artist\, BA. \nFlora grew up in a small Hungarian mining city\, Tatabanya\, when communism had just ended in the country. Her grandparents lived in a village nearby\, making their living by farming. Besides\, her grandads were commuting to the town’s mine daily. Flora loved the countryside and spent a lot of time in the village. \nIn high school\, a known Hungarian painter Jozsef Banﬁ was her drawing teacher\, and by him\, she was introduced to the world of art. Fine art enchanted her from the ﬁrst moment with the freedom of creativity and the opportunity for self-expression through colours. Flora composes large oil paintings featuring vibrant colours and unique graphic designs. Flowers\, trees\, and birds are recurring themes in her art. Her grandparents adored and valued nature for providing a living for them; Flora found inspiration in it. The change of seasons\, growing trees\, and wandering birds have amazed her since childhood. \nShe is an observer who expresses the relationship between humanity and nature\, as she ﬁrmly believes that our freedom is in constant change. \nemail: art@florafekete.comc \nEce Turaman \n\nAfter studying painting at Birmingham School of Fine Arts\, working with artists such as Trevor Halliday\, Roy Abell and Peter de Francia\, Ece did a postgraduate course in History of Contemporary Art. Painting mainly in oils and mixed media\, her work includes compositions with stylised still lives. She has had several solo exhibitions and has participated in numerous group exhibitions in İstanbul\, London\, Cambridge\, Bristol and Oxford. \nemail: eeturaman@aol.com \nwebsite: www.eceturaman.com
URL:https://hgsart.co.uk/event/resonance-group-show/
LOCATION:Fellowship House\, 136A Willifield Way\, London\, NW11 6YD\, United Kingdom
CATEGORIES:Exhibition
ATTACH;FMTTYPE=image/jpeg:https://hgsart.co.uk/wp-content/uploads/2025/07/website-banner-1.jpg
END:VEVENT
BEGIN:VEVENT
DTSTART;TZID=UTC:20250901T080000
DTEND;TZID=UTC:20251031T180000
DTSTAMP:20260421T104017
CREATED:20250815T123514Z
LAST-MODIFIED:20250815T123514Z
UID:3463-1756713600-1761933600@hgsart.co.uk
SUMMARY:HGS ART in collaboration with Hanover Residential
DESCRIPTION:“Exhibition in Residence” \nHGS ART are delighted to be working in collaboration with Hanover Residential in Temple Fortune NW11 to create an exhibition from selected members. This will be on a rolling basis. From September\, for our inaugural display\, featured members will be Francesco Conti\, Zahra Tharani\, Sophie Newman and Sally Hyman. \n  \nPlease pop in\, take a look and say hello!
URL:https://hgsart.co.uk/event/hgs-art-in-collaboration-with-hanover-residential/
LOCATION:hanover residential\, 15 Temple Fortune Parade\, Finchley Road\, London\, NW11 0QS
CATEGORIES:Exhibition
ATTACH;FMTTYPE=image/jpeg:https://hgsart.co.uk/wp-content/uploads/2025/08/Website-Banner-25-September.jpg
END:VEVENT
END:VCALENDAR