BEGIN:VCALENDAR
VERSION:2.0
PRODID:-//HGS Art - ECPv6.15.20//NONSGML v1.0//EN
CALSCALE:GREGORIAN
METHOD:PUBLISH
X-ORIGINAL-URL:https://hgsart.co.uk
X-WR-CALDESC:Events for HGS Art
REFRESH-INTERVAL;VALUE=DURATION:PT1H
X-Robots-Tag:noindex
X-PUBLISHED-TTL:PT1H
BEGIN:VTIMEZONE
TZID:UTC
BEGIN:STANDARD
TZOFFSETFROM:+0000
TZOFFSETTO:+0000
TZNAME:UTC
DTSTART:20230101T000000
END:STANDARD
END:VTIMEZONE
BEGIN:VEVENT
DTSTART;TZID=UTC:20240606T080000
DTEND;TZID=UTC:20250331T170000
DTSTAMP:20260421T015804
CREATED:20240606T103526Z
LAST-MODIFIED:20250114T093642Z
UID:2523-1717660800-1743440400@hgsart.co.uk
SUMMARY:Our May 2024 Art Fair
DESCRIPTION:http://hgsart.co.uk/wp-content/uploads/2024/06/f9fb26b3f29743e29b3286e9e9680ea2.mp4\nWe were delighted to welcome the many art lovers who came to our fair at Fellowship House in mid May. Our artists greatly enjoyed meeting our visitors and collectors alike. Our member artist and teacher\,Vera Moore\, kept our young visitors happy as well!
URL:https://hgsart.co.uk/event/our-latest-may-art-fair-18-19thmay-2024/
CATEGORIES:Fair
ATTACH;FMTTYPE=image/jpeg:https://hgsart.co.uk/wp-content/uploads/2024/06/fair-1.jpg
END:VEVENT
END:VCALENDAR